Package: furrowSeg Version: 1.20.0 Command: /home/biocbuild/bbs-3.13-bioc/R/bin/R CMD build --keep-empty-dirs --no-resave-data furrowSeg StartedAt: 2021-10-16 12:00:53 -0400 (Sat, 16 Oct 2021) EndedAt: 2021-10-16 12:06:20 -0400 (Sat, 16 Oct 2021) EllapsedTime: 326.2 seconds RetCode: 0 Status: OK PackageFile: furrowSeg_1.20.0.tar.gz PackageFileSize: 349.3 MiB