Package: flowPloidyData Version: 1.18.0 Command: /home/biocbuild/bbs-3.13-bioc/R/bin/R CMD INSTALL flowPloidyData StartedAt: 2021-10-16 11:07:41 -0400 (Sat, 16 Oct 2021) EndedAt: 2021-10-16 11:07:43 -0400 (Sat, 16 Oct 2021) EllapsedTime: 2.1 seconds RetCode: 0 Status: OK