Package: flowPloidyData Version: 1.18.0 Command: /home/biocbuild/bbs-3.13-bioc/R/bin/R CMD check --install=check:flowPloidyData.install-out.txt --library=/home/biocbuild/bbs-3.13-bioc/R/library --no-vignettes --timings flowPloidyData_1.18.0.tar.gz StartedAt: 2021-10-16 13:12:05 -0400 (Sat, 16 Oct 2021) EndedAt: 2021-10-16 13:12:20 -0400 (Sat, 16 Oct 2021) EllapsedTime: 15.5 seconds RetCode: 0 Status: OK CheckDir: flowPloidyData.Rcheck Warnings: 0