Package: faahKO Version: 1.32.0 Command: /home/biocbuild/bbs-3.13-bioc/R/bin/R CMD check --install=check:faahKO.install-out.txt --library=/home/biocbuild/bbs-3.13-bioc/R/library --no-vignettes --timings faahKO_1.32.0.tar.gz StartedAt: 2021-10-16 13:09:36 -0400 (Sat, 16 Oct 2021) EndedAt: 2021-10-16 13:12:46 -0400 (Sat, 16 Oct 2021) EllapsedTime: 189.8 seconds RetCode: 0 Status: OK CheckDir: faahKO.Rcheck Warnings: 0