Package: dorothea Version: 1.4.2 Command: /home/biocbuild/bbs-3.13-bioc/R/bin/R CMD check --install=check:dorothea.install-out.txt --library=/home/biocbuild/bbs-3.13-bioc/R/library --no-vignettes --timings dorothea_1.4.2.tar.gz StartedAt: 2021-10-16 13:06:32 -0400 (Sat, 16 Oct 2021) EndedAt: 2021-10-16 13:07:59 -0400 (Sat, 16 Oct 2021) EllapsedTime: 87.6 seconds RetCode: 0 Status: OK CheckDir: dorothea.Rcheck Warnings: 0