git_url: https://git.bioconductor.org/packages/derfinderData git_branch: RELEASE_3_13 git_last_commit: 4459056 git_last_commit_date: 2021-05-19 11:48:55 -0400 (Wed, 19 May 2021) Package: derfinderData Version: 2.10.0 Maintainer: Leonardo Collado-Torres MaintainerEmail: lcolladotor at gmail.com