Package: curatedOvarianData Version: 1.30.0 Command: /home/biocbuild/bbs-3.13-bioc/R/bin/R CMD INSTALL curatedOvarianData StartedAt: 2021-10-16 11:07:18 -0400 (Sat, 16 Oct 2021) EndedAt: 2021-10-16 11:07:27 -0400 (Sat, 16 Oct 2021) EllapsedTime: 8.7 seconds RetCode: 0 Status: OK