git_url: https://git.bioconductor.org/packages/curatedBreastData git_branch: RELEASE_3_13 git_last_commit: 8bc6965 git_last_commit_date: 2021-05-19 11:50:04 -0400 (Wed, 19 May 2021) Package: curatedBreastData Version: 2.20.0 Maintainer: Katie Planey MaintainerEmail: katie.planey at gmail.com