Package: cnvGSAdata Version: 1.28.0 Command: /home/biocbuild/bbs-3.13-bioc/R/bin/R CMD check --install=check:cnvGSAdata.install-out.txt --library=/home/biocbuild/bbs-3.13-bioc/R/library --no-vignettes --timings cnvGSAdata_1.28.0.tar.gz StartedAt: 2021-10-16 12:59:09 -0400 (Sat, 16 Oct 2021) EndedAt: 2021-10-16 13:00:04 -0400 (Sat, 16 Oct 2021) EllapsedTime: 55.0 seconds RetCode: 0 Status: WARNINGS CheckDir: cnvGSAdata.Rcheck Warnings: 1