Package: celarefData Version: 1.10.0 Command: /home/biocbuild/bbs-3.13-bioc/R/bin/R CMD check --install=check:celarefData.install-out.txt --library=/home/biocbuild/bbs-3.13-bioc/R/library --no-vignettes --timings celarefData_1.10.0.tar.gz StartedAt: 2021-10-16 12:55:18 -0400 (Sat, 16 Oct 2021) EndedAt: 2021-10-16 12:55:25 -0400 (Sat, 16 Oct 2021) EllapsedTime: 7.6 seconds RetCode: 0 Status: OK CheckDir: celarefData.Rcheck Warnings: 0