Package: breastCancerVDX Version: 1.30.0 Command: /home/biocbuild/bbs-3.13-bioc/R/bin/R CMD build --keep-empty-dirs --no-resave-data breastCancerVDX StartedAt: 2021-10-16 11:30:46 -0400 (Sat, 16 Oct 2021) EndedAt: 2021-10-16 11:30:51 -0400 (Sat, 16 Oct 2021) EllapsedTime: 4.7 seconds RetCode: 0 Status: OK PackageFile: breastCancerVDX_1.30.0.tar.gz PackageFileSize: 39.52 MiB