git_url: https://git.bioconductor.org/packages/benchmarkfdrData2019 git_branch: RELEASE_3_13 git_last_commit: a560f98 git_last_commit_date: 2021-05-19 12:08:30 -0400 (Wed, 19 May 2021) Package: benchmarkfdrData2019 Version: 1.6.0 Maintainer: Stephanie Hicks MaintainerEmail: shicks19 at jhu.edu