Package: affycompData Version: 1.30.0 Command: /home/biocbuild/bbs-3.13-bioc/R/bin/R CMD build --keep-empty-dirs --no-resave-data affycompData StartedAt: 2021-10-16 11:27:41 -0400 (Sat, 16 Oct 2021) EndedAt: 2021-10-16 11:27:53 -0400 (Sat, 16 Oct 2021) EllapsedTime: 11.4 seconds RetCode: 0 Status: OK PackageFile: affycompData_1.30.0.tar.gz PackageFileSize: 68.61 MiB