Package: TimerQuant Version: 1.22.0 Command: /home/biocbuild/bbs-3.13-bioc/R/bin/R CMD INSTALL TimerQuant StartedAt: 2021-10-16 11:21:42 -0400 (Sat, 16 Oct 2021) EndedAt: 2021-10-16 11:21:48 -0400 (Sat, 16 Oct 2021) EllapsedTime: 6.4 seconds RetCode: 0 Status: OK