Package: TENxPBMCData Version: 1.10.0 Command: /home/biocbuild/bbs-3.13-bioc/R/bin/R CMD check --install=check:TENxPBMCData.install-out.txt --library=/home/biocbuild/bbs-3.13-bioc/R/library --no-vignettes --timings TENxPBMCData_1.10.0.tar.gz StartedAt: 2021-10-16 14:09:58 -0400 (Sat, 16 Oct 2021) EndedAt: 2021-10-16 14:12:57 -0400 (Sat, 16 Oct 2021) EllapsedTime: 179.4 seconds RetCode: 0 Status: OK CheckDir: TENxPBMCData.Rcheck Warnings: 0