Package: TENxPBMCData Version: 1.10.0 Command: /home/biocbuild/bbs-3.13-bioc/R/bin/R CMD build --keep-empty-dirs --no-resave-data TENxPBMCData StartedAt: 2021-10-16 12:41:26 -0400 (Sat, 16 Oct 2021) EndedAt: 2021-10-16 12:42:24 -0400 (Sat, 16 Oct 2021) EllapsedTime: 58.0 seconds RetCode: 0 Status: OK PackageFile: TENxPBMCData_1.10.0.tar.gz PackageFileSize: 284.7 KiB