git_url: https://git.bioconductor.org/packages/SimBenchData git_branch: RELEASE_3_13 git_last_commit: d3bc3cf git_last_commit_date: 2021-05-19 12:11:57 -0400 (Wed, 19 May 2021) Package: SimBenchData Version: 1.0.0 Maintainer: Yue Cao MaintainerEmail: ycao6928 at uni.sydney.edu.au