Package: STexampleData Version: 1.0.8 Command: /home/biocbuild/bbs-3.13-bioc/R/bin/R CMD build --keep-empty-dirs --no-resave-data STexampleData StartedAt: 2021-10-16 12:37:41 -0400 (Sat, 16 Oct 2021) EndedAt: 2021-10-16 12:38:55 -0400 (Sat, 16 Oct 2021) EllapsedTime: 73.9 seconds RetCode: 0 Status: OK PackageFile: STexampleData_1.0.8.tar.gz PackageFileSize: 225.9 KiB