Package: SBGNview.data Version: 1.6.0 Command: /home/biocbuild/bbs-3.13-bioc/R/bin/R CMD check --install=check:SBGNview.data.install-out.txt --library=/home/biocbuild/bbs-3.13-bioc/R/library --no-vignettes --timings SBGNview.data_1.6.0.tar.gz StartedAt: 2021-10-16 13:57:46 -0400 (Sat, 16 Oct 2021) EndedAt: 2021-10-16 13:59:47 -0400 (Sat, 16 Oct 2021) EllapsedTime: 121.8 seconds RetCode: 0 Status: OK CheckDir: SBGNview.data.Rcheck Warnings: 0