git_url: https://git.bioconductor.org/packages/RnaSeqSampleSizeData git_branch: RELEASE_3_13 git_last_commit: 06b3b1b git_last_commit_date: 2021-05-19 11:49:14 -0400 (Wed, 19 May 2021) Package: RnaSeqSampleSizeData Version: 1.24.0 Maintainer: Shilin Zhao MaintainerEmail: zhaoshilin at gmail.com