Package: RGMQLlib Version: 1.12.0 Command: /home/biocbuild/bbs-3.13-bioc/R/bin/R CMD INSTALL RGMQLlib StartedAt: 2021-10-16 11:08:00 -0400 (Sat, 16 Oct 2021) EndedAt: 2021-10-16 11:08:04 -0400 (Sat, 16 Oct 2021) EllapsedTime: 4.4 seconds RetCode: 0 Status: OK