Package: PepsNMRData Version: 1.10.0 Command: /home/biocbuild/bbs-3.13-bioc/R/bin/R CMD INSTALL PepsNMRData StartedAt: 2021-10-16 11:03:48 -0400 (Sat, 16 Oct 2021) EndedAt: 2021-10-16 11:04:18 -0400 (Sat, 16 Oct 2021) EllapsedTime: 29.6 seconds RetCode: 0 Status: OK