Package: MSMB Version: 1.10.0 Command: /home/biocbuild/bbs-3.13-bioc/R/bin/R CMD INSTALL MSMB StartedAt: 2021-10-16 11:05:43 -0400 (Sat, 16 Oct 2021) EndedAt: 2021-10-16 11:05:46 -0400 (Sat, 16 Oct 2021) EllapsedTime: 2.8 seconds RetCode: 0 Status: OK