git_url: https://git.bioconductor.org/packages/MEEBOdata git_branch: RELEASE_3_13 git_last_commit: 66d0391 git_last_commit_date: 2021-05-19 11:25:34 -0400 (Wed, 19 May 2021) Package: MEEBOdata Version: 1.30.0 Maintainer: Agnes Paquet MaintainerEmail: apaquet at medsfgh.ucsf.edu