git_url: https://git.bioconductor.org/packages/ITALICSData git_branch: RELEASE_3_13 git_last_commit: d761290 git_last_commit_date: 2021-05-19 11:29:21 -0400 (Wed, 19 May 2021) Package: ITALICSData Version: 2.30.0 Maintainer: Guillem Rigaill MaintainerEmail: italics at curie.fr