git_url: https://git.bioconductor.org/packages/HiCDataLymphoblast git_branch: RELEASE_3_13 git_last_commit: c5ae1fe git_last_commit_date: 2021-05-19 11:45:09 -0400 (Wed, 19 May 2021) Package: HiCDataLymphoblast Version: 1.28.0 Maintainer: Borbala Mifsud MaintainerEmail: b.mifsud at qmul.ac.uk