Package: HMP2Data Version: 1.6.0 Command: /home/biocbuild/bbs-3.13-bioc/R/bin/R CMD check --install=check:HMP2Data.install-out.txt --library=/home/biocbuild/bbs-3.13-bioc/R/library --no-vignettes --timings HMP2Data_1.6.0.tar.gz StartedAt: 2021-10-16 13:23:57 -0400 (Sat, 16 Oct 2021) EndedAt: 2021-10-16 13:27:34 -0400 (Sat, 16 Oct 2021) EllapsedTime: 217.6 seconds RetCode: 0 Status: OK CheckDir: HMP2Data.Rcheck Warnings: 0