Package: HD2013SGI Version: 1.32.0 Command: /home/biocbuild/bbs-3.13-bioc/R/bin/R CMD INSTALL HD2013SGI StartedAt: 2021-10-16 11:10:46 -0400 (Sat, 16 Oct 2021) EndedAt: 2021-10-16 11:11:34 -0400 (Sat, 16 Oct 2021) EllapsedTime: 48.1 seconds RetCode: 0 Status: OK