Package: HD2013SGI Version: 1.32.0 Command: /home/biocbuild/bbs-3.13-bioc/R/bin/R CMD build --keep-empty-dirs --no-resave-data HD2013SGI StartedAt: 2021-10-16 12:09:25 -0400 (Sat, 16 Oct 2021) EndedAt: 2021-10-16 12:15:31 -0400 (Sat, 16 Oct 2021) EllapsedTime: 366.3 seconds RetCode: 0 Status: OK PackageFile: HD2013SGI_1.32.0.tar.gz PackageFileSize: 526.5 MiB