Package: FlowSorted.Blood.450k Version: 1.30.0 Command: /home/biocbuild/bbs-3.13-bioc/R/bin/R CMD check --install=check:FlowSorted.Blood.450k.install-out.txt --library=/home/biocbuild/bbs-3.13-bioc/R/library --no-vignettes --timings FlowSorted.Blood.450k_1.30.0.tar.gz StartedAt: 2021-10-16 13:12:08 -0400 (Sat, 16 Oct 2021) EndedAt: 2021-10-16 13:14:40 -0400 (Sat, 16 Oct 2021) EllapsedTime: 152.0 seconds RetCode: 0 Status: WARNINGS CheckDir: FlowSorted.Blood.450k.Rcheck Warnings: 1