Package: ELMER.data Version: 2.16.0 Command: /home/biocbuild/bbs-3.13-bioc/R/bin/R CMD check --install=check:ELMER.data.install-out.txt --library=/home/biocbuild/bbs-3.13-bioc/R/library --no-vignettes --timings ELMER.data_2.16.0.tar.gz StartedAt: 2021-10-16 13:08:51 -0400 (Sat, 16 Oct 2021) EndedAt: 2021-10-16 13:12:54 -0400 (Sat, 16 Oct 2021) EllapsedTime: 242.2 seconds RetCode: 0 Status: OK CheckDir: ELMER.data.Rcheck Warnings: 0