Package: DeSousa2013 Version: 1.28.0 Command: /home/biocbuild/bbs-3.13-bioc/R/bin/R CMD build --keep-empty-dirs --no-resave-data DeSousa2013 StartedAt: 2021-10-16 11:46:15 -0400 (Sat, 16 Oct 2021) EndedAt: 2021-10-16 11:46:57 -0400 (Sat, 16 Oct 2021) EllapsedTime: 41.8 seconds RetCode: 0 Status: OK PackageFile: DeSousa2013_1.28.0.tar.gz PackageFileSize: 44.65 MiB