Package: DExMAdata Version: 1.0.0 Command: /home/biocbuild/bbs-3.13-bioc/R/bin/R CMD check --install=check:DExMAdata.install-out.txt --library=/home/biocbuild/bbs-3.13-bioc/R/library --no-vignettes --timings DExMAdata_1.0.0.tar.gz StartedAt: 2021-10-16 13:05:21 -0400 (Sat, 16 Oct 2021) EndedAt: 2021-10-16 13:05:48 -0400 (Sat, 16 Oct 2021) EllapsedTime: 27.8 seconds RetCode: 0 Status: OK CheckDir: DExMAdata.Rcheck Warnings: 0