Package: DExMAdata Version: 1.0.0 Command: /home/biocbuild/bbs-3.13-bioc/R/bin/R CMD build --keep-empty-dirs --no-resave-data DExMAdata StartedAt: 2021-10-16 11:46:18 -0400 (Sat, 16 Oct 2021) EndedAt: 2021-10-16 11:47:19 -0400 (Sat, 16 Oct 2021) EllapsedTime: 60.9 seconds RetCode: 0 Status: OK PackageFile: DExMAdata_1.0.0.tar.gz PackageFileSize: 7.382 MiB