git_url: https://git.bioconductor.org/packages/DExMAdata git_branch: RELEASE_3_13 git_last_commit: a33f8dc git_last_commit_date: 2021-05-19 12:12:33 -0400 (Wed, 19 May 2021) Package: DExMAdata Version: 1.0.0 Maintainer: Juan Antonio Villatoro-GarcĂ­a MaintainerEmail: juanantoniovillatorogarcia at gmail.com