Package: COHCAPanno Version: 1.28.0 Command: /home/biocbuild/bbs-3.13-bioc/R/bin/R CMD check --install=check:COHCAPanno.install-out.txt --library=/home/biocbuild/bbs-3.13-bioc/R/library --no-vignettes --timings COHCAPanno_1.28.0.tar.gz StartedAt: 2021-10-16 12:59:19 -0400 (Sat, 16 Oct 2021) EndedAt: 2021-10-16 12:59:36 -0400 (Sat, 16 Oct 2021) EllapsedTime: 17.3 seconds RetCode: 0 Status: OK CheckDir: COHCAPanno.Rcheck Warnings: 0