Package: CLL Version: 1.32.0 Command: /home/biocbuild/bbs-3.13-bioc/R/bin/R CMD INSTALL CLL StartedAt: 2021-10-16 11:07:14 -0400 (Sat, 16 Oct 2021) EndedAt: 2021-10-16 11:07:19 -0400 (Sat, 16 Oct 2021) EllapsedTime: 5.7 seconds RetCode: 0 Status: OK