Package: CCl4 Version: 1.30.0 Command: /home/biocbuild/bbs-3.13-bioc/R/bin/R CMD INSTALL CCl4 StartedAt: 2021-10-16 11:06:02 -0400 (Sat, 16 Oct 2021) EndedAt: 2021-10-16 11:06:10 -0400 (Sat, 16 Oct 2021) EllapsedTime: 8.2 seconds RetCode: 0 Status: OK