Package: BeadSorted.Saliva.EPIC Version: 1.0.0 Command: /home/biocbuild/bbs-3.13-bioc/R/bin/R CMD build --keep-empty-dirs --no-resave-data BeadSorted.Saliva.EPIC StartedAt: 2021-10-16 11:29:02 -0400 (Sat, 16 Oct 2021) EndedAt: 2021-10-16 11:29:40 -0400 (Sat, 16 Oct 2021) EllapsedTime: 38.4 seconds RetCode: 0 Status: OK PackageFile: BeadSorted.Saliva.EPIC_1.0.0.tar.gz PackageFileSize: 13.12 KiB