Package: AssessORFData Version: 1.10.0 Command: /home/biocbuild/bbs-3.13-bioc/R/bin/R CMD build --keep-empty-dirs --no-resave-data AssessORFData StartedAt: 2021-10-16 11:28:40 -0400 (Sat, 16 Oct 2021) EndedAt: 2021-10-16 11:30:23 -0400 (Sat, 16 Oct 2021) EllapsedTime: 103.2 seconds RetCode: 0 Status: OK PackageFile: AssessORFData_1.10.0.tar.gz PackageFileSize: 144.6 MiB