Package: AmpAffyExample Version: 1.32.0 Command: /home/biocbuild/bbs-3.13-bioc/R/bin/R CMD check --install=check:AmpAffyExample.install-out.txt --library=/home/biocbuild/bbs-3.13-bioc/R/library --no-vignettes --timings AmpAffyExample_1.32.0.tar.gz StartedAt: 2021-10-16 12:47:43 -0400 (Sat, 16 Oct 2021) EndedAt: 2021-10-16 12:48:29 -0400 (Sat, 16 Oct 2021) EllapsedTime: 46.4 seconds RetCode: 0 Status: WARNINGS CheckDir: AmpAffyExample.Rcheck Warnings: 1