| Back to Long Tests report for BioC 3.13 |
This page was generated on 2021-12-11 17:30:01 -0500 (Sat, 11 Dec 2021).
|
To the developers/maintainers of the rhdf5 package: Please make sure to use the following settings in order to reproduce any error or warning you see on this page. |
| Package 18/20 | Hostname | OS / Arch | CHECK | |||||||
| rhdf5 2.39.2 (landing page) Mike Smith
| rex3 | Linux (Ubuntu 20.04.2 LTS) / x86_64 | OK | |||||||
| Package: rhdf5 |
| Version: 2.39.2 |
| Command: /home/biocbuild/bbs-3.13-bioc/R/bin/R CMD build --keep-empty-dirs --no-resave-data --no-build-vignettes --no-manual rhdf5 |
| StartedAt: 2021-12-11 09:30:17 -0500 (Sat, 11 Dec 2021) |
| EndedAt: 2021-12-11 09:30:21 -0500 (Sat, 11 Dec 2021) |
| EllapsedTime: 4.1 seconds |
| RetCode: 0 |
| Status: OK |
| PackageFile: rhdf5_2.39.2.tar.gz |
| PackageFileSize: 390.7 KiB |
############################################################################## ############################################################################## ### ### Running command: ### ### /home/biocbuild/bbs-3.13-bioc/R/bin/R CMD build --keep-empty-dirs --no-resave-data --no-build-vignettes --no-manual rhdf5 ### ############################################################################## ############################################################################## * checking for file ‘rhdf5/DESCRIPTION’ ... OK * preparing ‘rhdf5’: * checking DESCRIPTION meta-information ... OK * cleaning src * running ‘cleanup’ * checking for LF line-endings in source and make files and shell scripts * checking for empty or unneeded directories * building ‘rhdf5_2.39.2.tar.gz’