| Back to Long Tests report for BioC 3.13 |
This page was generated on 2021-12-11 17:30:01 -0500 (Sat, 11 Dec 2021).
|
To the developers/maintainers of the biodbLipidmaps package: Please make sure to use the following settings in order to reproduce any error or warning you see on this page. |
| Package 8/20 | Hostname | OS / Arch | CHECK | |||||||
| biodbLipidmaps 1.1.0 (landing page) Pierrick Roger
| rex3 | Linux (Ubuntu 20.04.2 LTS) / x86_64 | OK | |||||||
| Package: biodbLipidmaps |
| Version: 1.1.0 |
| Command: /home/biocbuild/bbs-3.13-bioc/R/bin/R CMD build --keep-empty-dirs --no-resave-data --no-build-vignettes --no-manual biodbLipidmaps |
| StartedAt: 2021-12-11 09:30:16 -0500 (Sat, 11 Dec 2021) |
| EndedAt: 2021-12-11 09:30:16 -0500 (Sat, 11 Dec 2021) |
| EllapsedTime: 0.6 seconds |
| RetCode: 0 |
| Status: OK |
| PackageFile: biodbLipidmaps_1.1.0.tar.gz |
| PackageFileSize: 14.71 KiB |
############################################################################## ############################################################################## ### ### Running command: ### ### /home/biocbuild/bbs-3.13-bioc/R/bin/R CMD build --keep-empty-dirs --no-resave-data --no-build-vignettes --no-manual biodbLipidmaps ### ############################################################################## ############################################################################## * checking for file ‘biodbLipidmaps/DESCRIPTION’ ... OK * preparing ‘biodbLipidmaps’: * checking DESCRIPTION meta-information ... OK * checking for LF line-endings in source and make files and shell scripts * checking for empty or unneeded directories * building ‘biodbLipidmaps_1.1.0.tar.gz’