| Back to Long Tests report for BioC 3.13 |
This page was generated on 2021-12-11 17:30:01 -0500 (Sat, 11 Dec 2021).
|
To the developers/maintainers of the DropletUtils package: Please make sure to use the following settings in order to reproduce any error or warning you see on this page. |
| Package 14/20 | Hostname | OS / Arch | CHECK | |||||||
| DropletUtils 1.15.2 (landing page) Jonathan Griffiths
| rex3 | Linux (Ubuntu 20.04.2 LTS) / x86_64 | ERROR | |||||||
| Package: DropletUtils |
| Version: 1.15.2 |
| Command: /home/biocbuild/bbs-3.13-bioc/R/bin/R CMD build --keep-empty-dirs --no-resave-data --no-build-vignettes --no-manual DropletUtils |
| StartedAt: 2021-12-11 09:30:16 -0500 (Sat, 11 Dec 2021) |
| EndedAt: 2021-12-11 09:30:18 -0500 (Sat, 11 Dec 2021) |
| EllapsedTime: 2.2 seconds |
| RetCode: 0 |
| Status: OK |
| PackageFile: DropletUtils_1.15.2.tar.gz |
| PackageFileSize: 118.4 KiB |
############################################################################## ############################################################################## ### ### Running command: ### ### /home/biocbuild/bbs-3.13-bioc/R/bin/R CMD build --keep-empty-dirs --no-resave-data --no-build-vignettes --no-manual DropletUtils ### ############################################################################## ############################################################################## * checking for file ‘DropletUtils/DESCRIPTION’ ... OK * preparing ‘DropletUtils’: * checking DESCRIPTION meta-information ... OK * cleaning src * checking for LF line-endings in source and make files and shell scripts * checking for empty or unneeded directories * building ‘DropletUtils_1.15.2.tar.gz’