Package: zellkonverter Version: 1.2.1 Command: /Library/Frameworks/R.framework/Versions/Current/Resources/bin/R CMD INSTALL zellkonverter StartedAt: 2021-10-14 09:13:34 -0400 (Thu, 14 Oct 2021) EndedAt: 2021-10-14 09:14:28 -0400 (Thu, 14 Oct 2021) EllapsedTime: 53.4 seconds RetCode: 0 Status: OK