Package: zellkonverter Version: 1.2.1 Command: /Library/Frameworks/R.framework/Versions/Current/Resources/bin/R CMD check --install=check:zellkonverter.install-out.txt --library=/Library/Frameworks/R.framework/Versions/Current/Resources/library --no-vignettes --timings zellkonverter_1.2.1.tar.gz StartedAt: 2021-10-15 01:18:09 -0400 (Fri, 15 Oct 2021) EndedAt: 2021-10-15 01:25:42 -0400 (Fri, 15 Oct 2021) EllapsedTime: 453.3 seconds RetCode: 0 Status: OK CheckDir: zellkonverter.Rcheck Warnings: 0