Package: zFPKM Version: 1.14.0 Command: C:\cygwin\bin\curl.exe -O http://155.52.207.165/BBS/3.13/bioc/src/contrib/zFPKM_1.14.0.tar.gz && rm -rf zFPKM.buildbin-libdir && mkdir zFPKM.buildbin-libdir && C:\Users\biocbuild\bbs-3.13-bioc\R\bin\R.exe CMD INSTALL --merge-multiarch --build --library=zFPKM.buildbin-libdir zFPKM_1.14.0.tar.gz && C:\Users\biocbuild\bbs-3.13-bioc\R\bin\R.exe CMD INSTALL zFPKM_1.14.0.zip && rm zFPKM_1.14.0.tar.gz zFPKM_1.14.0.zip StartedAt: 2021-10-14 09:30:28 -0400 (Thu, 14 Oct 2021) EndedAt: 2021-10-14 09:31:06 -0400 (Thu, 14 Oct 2021) EllapsedTime: 38.1 seconds RetCode: 0 Status: OK