Package: yarn Version: 1.18.0 Command: rm -rf yarn.buildbin-libdir && mkdir yarn.buildbin-libdir && /Users/biocbuild/BBS/utils/build-universal.sh yarn_1.18.0.tar.gz /Library/Frameworks/R.framework/Versions/Current/Resources/bin/R yarn.buildbin-libdir StartedAt: 2021-10-15 04:24:03 -0400 (Fri, 15 Oct 2021) EndedAt: 2021-10-15 04:25:01 -0400 (Fri, 15 Oct 2021) EllapsedTime: 58.3 seconds RetCode: 0 Status: OK PackageFile: yarn_1.18.0.tgz PackageFileSize: 4.235 MiB