Package: xmapbridge Version: 1.50.0 Command: /Library/Frameworks/R.framework/Versions/Current/Resources/bin/R CMD build --keep-empty-dirs --no-resave-data xmapbridge StartedAt: 2021-10-14 15:41:12 -0400 (Thu, 14 Oct 2021) EndedAt: 2021-10-14 15:41:55 -0400 (Thu, 14 Oct 2021) EllapsedTime: 42.9 seconds RetCode: 0 Status: OK PackageFile: xmapbridge_1.50.0.tar.gz PackageFileSize: 2.912 MiB