Package: wppi Version: 1.0.0 Command: /Library/Frameworks/R.framework/Versions/Current/Resources/bin/R CMD build --keep-empty-dirs --no-resave-data wppi StartedAt: 2021-10-14 15:39:52 -0400 (Thu, 14 Oct 2021) EndedAt: 2021-10-14 15:40:47 -0400 (Thu, 14 Oct 2021) EllapsedTime: 55.5 seconds RetCode: 1 Status: ERROR PackageFile: None PackageFileSize: NA